BEGIN:VCALENDAR
VERSION:2.0
PRODID:-//Methow Valley Citizens Council - ECPv6.13.2.1//NONSGML v1.0//EN
CALSCALE:GREGORIAN
METHOD:PUBLISH
X-ORIGINAL-URL:https://mvcitizens.org
X-WR-CALDESC:Events for Methow Valley Citizens Council
REFRESH-INTERVAL;VALUE=DURATION:PT1H
X-Robots-Tag:noindex
X-PUBLISHED-TTL:PT1H
BEGIN:VTIMEZONE
TZID:UTC
BEGIN:STANDARD
TZOFFSETFROM:+0000
TZOFFSETTO:+0000
TZNAME:UTC
DTSTART:20220101T000000
END:STANDARD
END:VTIMEZONE
BEGIN:VEVENT
DTSTART;TZID=UTC:20221013T173000
DTEND;TZID=UTC:20221013T193000
DTSTAMP:20260426T023202
CREATED:20220928T180435Z
LAST-MODIFIED:20220928T180435Z
UID:3132-1665682200-1665689400@mvcitizens.org
SUMMARY:MVCC Book Club
DESCRIPTION:MVCC BOOK CLUB: Ministry for the Future by Kim Stanley Robinson. Join MVCC and Resilient Methow in a facilitated book club reading of this acclaimed climate fiction novel published in 2020. We’ll reflect on what parallels exist between Robinson’s perhaps not-so-fictional near future and our present\, and look to the Methow Valley’s Climate Action Plan as a guide for how we as a community can adapt and build climate resiliency. Click here to sign up 
URL:https://mvcitizens.org/event/mvcc-book-club/
LOCATION:Winthrop Library\, Winthrop\, WA\, United States
END:VEVENT
END:VCALENDAR