BEGIN:VCALENDAR
VERSION:2.0
PRODID:-//Methow Valley Citizens Council - ECPv6.13.2.1//NONSGML v1.0//EN
CALSCALE:GREGORIAN
METHOD:PUBLISH
X-WR-CALNAME:Methow Valley Citizens Council
X-ORIGINAL-URL:https://mvcitizens.org
X-WR-CALDESC:Events for Methow Valley Citizens Council
REFRESH-INTERVAL;VALUE=DURATION:PT1H
X-Robots-Tag:noindex
X-PUBLISHED-TTL:PT1H
BEGIN:VTIMEZONE
TZID:UTC
BEGIN:STANDARD
TZOFFSETFROM:+0000
TZOFFSETTO:+0000
TZNAME:UTC
DTSTART:20180101T000000
END:STANDARD
END:VTIMEZONE
BEGIN:VEVENT
DTSTART;VALUE=DATE:20181104
DTEND;VALUE=DATE:20181105
DTSTAMP:20260424T155628
CREATED:20181022T195626Z
LAST-MODIFIED:20181022T200052Z
UID:856-1541289600-1541375999@mvcitizens.org
SUMMARY:Canvassing for I-1631
DESCRIPTION:MVCC is proud to support I-1631\, and you can too! \nWe need help canvassing for I-1631 every weekend in Winthrop and Twisp! You set the hours and we provide you with the materials. \nWe will be canvassing at the following locations and times.\nSaturday: Twisp Farmers Market (9am-12pm) and Winthrop Corner anytime.\nSunday: Winthrop Corner anytime.\nEmail Raechel@Mvcitizens.org to learn more!
URL:https://mvcitizens.org/event/canvassing-for-i-1631-4/
LOCATION:WA
CATEGORIES:Canvassing,Climate Change,Event,I-1631
ORGANIZER;CN="Methow Valley Citizens Council":MAILTO:mvcc@mvcitizens.org
END:VEVENT
BEGIN:VEVENT
DTSTART;TZID=UTC:20181103T090000
DTEND;TZID=UTC:20181103T120000
DTSTAMP:20260424T155628
CREATED:20181022T195040Z
LAST-MODIFIED:20181022T195040Z
UID:854-1541235600-1541246400@mvcitizens.org
SUMMARY:Canvassing for I-1631
DESCRIPTION:MVCC is proud to support I-1631\, and you can too! \nWe need help canvassing for I-1631 every weekend in Winthrop and Twisp! You set the hours and we provide you with the materials. \nWe will be canvassing at the following locations and times.\nSaturday: Twisp Farmers Market (9am-12pm) and Winthrop Corner anytime.\nSunday: Winthrop Corner anytime.\nEmail Raechel@Mvcitizens.org to learn more!
URL:https://mvcitizens.org/event/canvassing-for-i-1631-3/
LOCATION:Twisp Farmers Market\, 201 Hwy 20 South\, Twisp\, WA\, 98856\, United States
CATEGORIES:Canvassing,Climate Change,Event,I-1631
ORGANIZER;CN="Methow Valley Citizens Council":MAILTO:mvcc@mvcitizens.org
END:VEVENT
BEGIN:VEVENT
DTSTART;TZID=UTC:20181031T173000
DTEND;TZID=UTC:20181031T193000
DTSTAMP:20260424T155628
CREATED:20181022T193425Z
LAST-MODIFIED:20181022T193425Z
UID:843-1541007000-1541014200@mvcitizens.org
SUMMARY:Phone Banking for I-1631
DESCRIPTION:As local farmer and activist\, Cameron Green said at our Campaign Event for I-1631\, “We can’t keep running away from climate change hoping it will be better somewhere else.” Climate change is here and it’s here to stay unless we as citizens choose to #ActOnClimate. \nThat is why MVCC is proud to support I-1631. Every Wednesday up until 10/31 we will be holding phone banking events at the Dropzone in Winthrop. We will provide the materials so you feel confident to speech directly to voters about why they can help ensure future generations have access to a livable planet. We will also provide snacks\, and drinks. \nPlease bring a laptop\, cellphone and headphones to this event.
URL:https://mvcitizens.org/event/phone-banking-for-i-1631-3/
LOCATION:Drop Zone\, 303 Riverside Ave\, Winthrop\, WA\, 98862\, United States
CATEGORIES:Climate Change,Event,Food,I-1631,Phone Banking
ORGANIZER;CN="Methow Valley Citizens Council":MAILTO:mvcc@mvcitizens.org
END:VEVENT
BEGIN:VEVENT
DTSTART;TZID=UTC:20181029T173000
DTEND;TZID=UTC:20181029T193000
DTSTAMP:20260424T155628
CREATED:20181022T192611Z
LAST-MODIFIED:20181022T193110Z
UID:839-1540834200-1540841400@mvcitizens.org
SUMMARY:Phone Banking for I-1631!
DESCRIPTION:As local farmer and activist\, Cameron Green said at our Campaign Event for I-1631\, “We can’t keep running away from climate change hoping it will be better somewhere else.” Climate change is here and it’s here to stay unless we as citizens choose to #ActOnClimate. \nThat is why MVCC is proud to support I-1631. Every Monday up until 11/5 we will be holding phone banking events at our office in Twisp. We will provide the materials so you feel confident to speech directly to voters about why they can help ensure future generations have access to a livable planet. We will also provide snacks\, and drinks. \nPlease bring a cellphone\, laptop and headphones. If you do not have access to these items we can provide them for you on a first-come\, first-serve basis.
URL:https://mvcitizens.org/event/phone-banking-for-i-1631-copy/
LOCATION:MVCC Office\, 305 E Methow Valley Highway\, Twisp\, WA\, 98856\, United States
CATEGORIES:Climate Change,Event,Food,I-1631,MVCAP,Phone Banking
ATTACH;FMTTYPE=image/jpeg:https://mvcitizens.org/wp-content/uploads/2018/06/Anne-Young-Climate-Change-Photo.jpg
ORGANIZER;CN="Methow Valley Citizens Council":MAILTO:mvcc@mvcitizens.org
END:VEVENT
BEGIN:VEVENT
DTSTART;VALUE=DATE:20181028
DTEND;VALUE=DATE:20181029
DTSTAMP:20260424T155628
CREATED:20181022T194942Z
LAST-MODIFIED:20181022T195114Z
UID:852-1540684800-1540771199@mvcitizens.org
SUMMARY:Canvassing for I-1631
DESCRIPTION:MVCC is proud to support I-1631\, and you can too! \nWe need help canvassing for I-1631 every weekend in Winthrop and Twisp! You set the hours and we provide you with the materials. \nWe will be canvassing at the following locations and times.\nSaturday: Twisp Farmers Market (9am-12pm) and Winthrop Corner anytime.\nSunday: Winthrop Corner anytime.\nEmail Raechel@Mvcitizens.org to learn more!
URL:https://mvcitizens.org/event/canvassing-for-i-1631-2/
LOCATION:WA
CATEGORIES:Canvassing,Climate Change,Event,I-1631
ORGANIZER;CN="Methow Valley Citizens Council":MAILTO:mvcc@mvcitizens.org
END:VEVENT
BEGIN:VEVENT
DTSTART;VALUE=DATE:20181027
DTEND;VALUE=DATE:20181028
DTSTAMP:20260424T155628
CREATED:20181022T194839Z
LAST-MODIFIED:20181022T194839Z
UID:849-1540598400-1540684799@mvcitizens.org
SUMMARY:Canvassing for I-1631
DESCRIPTION:MVCC is proud to support I-1631\, and you can too! \nWe need help canvassing for I-1631 every weekend in Winthrop and Twisp! You set the hours and we provide you with the materials. \nWe will be canvassing at the following locations and times.\nSaturday: Twisp Farmers Market (9am-12pm) and Winthrop Corner anytime.\nSunday: Winthrop Corner anytime.\nEmail Raechel@Mvcitizens.org to learn more!
URL:https://mvcitizens.org/event/canvassing-for-i-1631/
LOCATION:Twisp Farmers Market\, 201 Hwy 20 South\, Twisp\, WA\, 98856\, United States
CATEGORIES:Canvassing,Climate Change,Event,I-1631
ORGANIZER;CN="Methow Valley Citizens Council":MAILTO:mvcc@mvcitizens.org
END:VEVENT
BEGIN:VEVENT
DTSTART;TZID=UTC:20181024T173000
DTEND;TZID=UTC:20181024T193000
DTSTAMP:20260424T155628
CREATED:20181022T192125Z
LAST-MODIFIED:20181022T192151Z
UID:834-1540402200-1540409400@mvcitizens.org
SUMMARY:Phone Banking for I-1631
DESCRIPTION:As local farmer and activist\, Cameron Green said at our Campaign Event for I-1631\, “We can’t keep running away from climate change hoping it will be better somewhere else.” Climate change is here and it’s here to stay unless we as citizens choose to #ActOnClimate. \nThat is why MVCC is proud to support I-1631. Every Wednesday up until 10/31 we will be holding phone banking events at the Dropzone in Winthrop. We will provide the materials so you feel confident to speech directly to voters about why they can help ensure future generations have access to a livable planet. We will also provide snacks\, and drinks. \nPlease bring a laptop\, cellphone and headphones to this event.
URL:https://mvcitizens.org/event/phone-banking-for-i-1631-2/
LOCATION:Drop Zone\, 303 Riverside Ave\, Winthrop\, WA\, 98862\, United States
CATEGORIES:Climate Change,Event,Food,I-1631,Phone Banking
ORGANIZER;CN="Methow Valley Citizens Council":MAILTO:mvcc@mvcitizens.org
END:VEVENT
BEGIN:VEVENT
DTSTART;TZID=UTC:20181022T173000
DTEND;TZID=UTC:20181022T193000
DTSTAMP:20260424T155628
CREATED:20181022T191322Z
LAST-MODIFIED:20181022T193149Z
UID:831-1540229400-1540236600@mvcitizens.org
SUMMARY:Phone Banking for I-1631!
DESCRIPTION:As local farmer and activist\, Cameron Green said at our Campaign Event for I-1631\, “We can’t keep running away from climate change hoping it will be better somewhere else.” Climate change is here and it’s here to stay unless we as citizens choose to #ActOnClimate. \nThat is why MVCC is proud to support I-1631. Every Monday up until 11/5 we will be holding phone banking events at our office in Twisp. We will provide the materials so you feel confident to speech directly to voters about why they can help ensure future generations have access to a livable planet. We will also provide snacks\, and drinks.
URL:https://mvcitizens.org/event/phone-banking-for-i-1631/
LOCATION:MVCC Office\, 305 E Methow Valley Highway\, Twisp\, WA\, 98856\, United States
CATEGORIES:Climate Change,Event,Food,I-1631,Phone Banking
ATTACH;FMTTYPE=image/jpeg:https://mvcitizens.org/wp-content/uploads/2018/06/Anne-Young-Climate-Change-Photo.jpg
ORGANIZER;CN="Methow Valley Citizens Council":MAILTO:mvcc@mvcitizens.org
END:VEVENT
END:VCALENDAR