BEGIN:VCALENDAR
VERSION:2.0
PRODID:-//Methow Valley Citizens Council - ECPv6.13.2.1//NONSGML v1.0//EN
CALSCALE:GREGORIAN
METHOD:PUBLISH
X-ORIGINAL-URL:https://mvcitizens.org
X-WR-CALDESC:Events for Methow Valley Citizens Council
REFRESH-INTERVAL;VALUE=DURATION:PT1H
X-Robots-Tag:noindex
X-PUBLISHED-TTL:PT1H
BEGIN:VTIMEZONE
TZID:UTC
BEGIN:STANDARD
TZOFFSETFROM:+0000
TZOFFSETTO:+0000
TZNAME:UTC
DTSTART:20190101T000000
END:STANDARD
END:VTIMEZONE
BEGIN:VEVENT
DTSTART;TZID=UTC:20190809T190000
DTEND;TZID=UTC:20190809T203000
DTSTAMP:20260424T155627
CREATED:20190729T182614Z
LAST-MODIFIED:20190729T182615Z
UID:1188-1565377200-1565382600@mvcitizens.org
SUMMARY:Screening of Return of the River - Twisp
DESCRIPTION:Return of the River follows a group of strong-minded committed people as they attempt the impossible: to change the public opinion of a town and eventually the nation to bring a dam down. The community comes to a consensus\, setting the Elwha River free and showing the way to a more sustainable future. Amid grim environmental news\, Return of the River is a film infused with hope. \nThe film will be followed by a facilitated discussion covering the Similkameen River\, Enloe Dam\, and the benefits of the restoration of the river. \nAs a ratepayer of Okanogan Public Utility District and/or a citizen of Okanogan County\, we want you to be aware of how we all can assist the Okanogan PUD\, federal and state agencies\, and the county in taking responsibility for the restoration of the Similkameen River. \nThere will be coffee\, tea\, and light refreshments. Donations are welcomed. \nThis film presentation and discussion is sponsored by Columbiana.
URL:https://mvcitizens.org/event/screening-of-return-of-the-river-twisp/
LOCATION:Methow Valley Community Center\, 201 South Highway 20\, Twisp\, WA\, 98856\, United States
CATEGORIES:Enloe,Event,Food
ATTACH;FMTTYPE=image/jpeg:https://mvcitizens.org/wp-content/uploads/2019/07/Elwha_Salmon.jpg
END:VEVENT
END:VCALENDAR