BEGIN:VCALENDAR
VERSION:2.0
PRODID:-//Methow Valley Citizens Council - ECPv6.13.2.1//NONSGML v1.0//EN
CALSCALE:GREGORIAN
METHOD:PUBLISH
X-WR-CALNAME:Methow Valley Citizens Council
X-ORIGINAL-URL:https://mvcitizens.org
X-WR-CALDESC:Events for Methow Valley Citizens Council
REFRESH-INTERVAL;VALUE=DURATION:PT1H
X-Robots-Tag:noindex
X-PUBLISHED-TTL:PT1H
BEGIN:VTIMEZONE
TZID:UTC
BEGIN:STANDARD
TZOFFSETFROM:+0000
TZOFFSETTO:+0000
TZNAME:UTC
DTSTART:20180101T000000
END:STANDARD
END:VTIMEZONE
BEGIN:VEVENT
DTSTART;TZID=UTC:20181107T173000
DTEND;TZID=UTC:20181107T193000
DTSTAMP:20260424T184441
CREATED:20181022T201840Z
LAST-MODIFIED:20181022T202030Z
UID:859-1541611800-1541619000@mvcitizens.org
SUMMARY:Phone Banking for the Methow Headwaters Campaign
DESCRIPTION:The Bureau of Land Management will host a public meeting in the Methow Valley on Tuesday\, November 13 @ 6PM at the Barn to gather public feedback on the proposal to approve a mineral withdrawal for the Methow Headwaters region. \nMVCC will be phone banking on evenings of 11/7\, 11/8 and 11/12 to encourage valley residents to attend the 11/13 event. We’d love if you’d join us! All you need are a pair of headphones and a cell phone! We will provide snacks\, drinks and a information of the Methow Headwaters Campaign.
URL:https://mvcitizens.org/event/phone-banking-for-the-methow-headwaters-campaign/
LOCATION:MVCC Office\, 305 E Methow Valley Highway\, Twisp\, WA\, 98856\, United States
CATEGORIES:Event,Food,Methow Headwaters,Phone Banking
ORGANIZER;CN="Methow Headwaters Campaign":MAILTO:methowheadwaters@gmail.com
END:VEVENT
END:VCALENDAR