BEGIN:VCALENDAR
VERSION:2.0
PRODID:-//Methow Valley Citizens Council - ECPv6.13.2.1//NONSGML v1.0//EN
CALSCALE:GREGORIAN
METHOD:PUBLISH
X-WR-CALNAME:Methow Valley Citizens Council
X-ORIGINAL-URL:https://mvcitizens.org
X-WR-CALDESC:Events for Methow Valley Citizens Council
REFRESH-INTERVAL;VALUE=DURATION:PT1H
X-Robots-Tag:noindex
X-PUBLISHED-TTL:PT1H
BEGIN:VTIMEZONE
TZID:UTC
BEGIN:STANDARD
TZOFFSETFROM:+0000
TZOFFSETTO:+0000
TZNAME:UTC
DTSTART:20180101T000000
END:STANDARD
END:VTIMEZONE
BEGIN:VEVENT
DTSTART;TZID=UTC:20200417T160000
DTEND;TZID=UTC:20200417T173000
DTSTAMP:20260424T155628
CREATED:20200410T174254Z
LAST-MODIFIED:20200410T174805Z
UID:1402-1587139200-1587144600@mvcitizens.org
SUMMARY:Save the Date for a virtual Earth Day Celebration!
DESCRIPTION:The 50th Anniversary of Earth Day is going virtual on Friday\, April 17th\, from 4-5:30pm. \nThis Earth Day marks the anniversary of the birth of the modern environmental movement on April 22\, 1970. \nJoin the Methow Valley Citizens Council and Methow Arts for an online celebration kicking off the beginning of Earth Week. \nThe event will include: \n\nAn interview with Denis Hayes\, National Coordinator of the First Earth Day in 1970. Conducted by Liberty Bell and Independent Learning Center High School students.\nInspiring video clips of Methow Valley students sharing their vision for the future\nLive interview with Xiuhtezcatl Martinez\, inspiring & nationally-recognized climate activist and hip hop artist.\nState of the Nation Expert Panel Discussion with Michael Gerrard of Sabine Center for Climate Change at Columbia Law. Michael Furze of WA State Dept. of Commerce\, and Amelia Marchand of the Colville Confederated Tribes\, moderated by Jasmine Minbashian.\nLive music & video with Luc Reynaud and poetry reading by WA State poet laureate. Claudia Castro Luna.\n\nRegister for the FREE event here! 
URL:https://mvcitizens.org/event/save-the-date-for-a-virtual-earth-day-celebration/
CATEGORIES:Climate Change,Event,Music
ATTACH;FMTTYPE=image/png:https://mvcitizens.org/wp-content/uploads/2020/04/Earth-Day-FB-Event-Header-3.png
ORGANIZER;CN="Methow Valley Citizens Council":MAILTO:mvcc@mvcitizens.org
END:VEVENT
BEGIN:VEVENT
DTSTART;VALUE=DATE:20190601
DTEND;VALUE=DATE:20190602
DTSTAMP:20260424T155628
CREATED:20190321T174713Z
LAST-MODIFIED:20190517T013413Z
UID:1066-1559347200-1559433599@mvcitizens.org
SUMMARY:Rise & Shine for the Methow - MVCC's Annual Celebration!
DESCRIPTION:You are invited to bring a friend to Rise and Shine for the Methow! \nSaturday\, June 1\n12:30 –  2:30pm\nOSB Taproom (Twispworks campus)   \nPotluck and BBQ with local flavors \nEveryone is welcome\, kid-friendly! \n  \nPlus: Annual Board Election\, Updates on MVCC initiatives to protect our land\, air and water\, and fun ways to get involved in our work. \nBring a friend who is not yet a member of MVCC – together we can plant the seeds of home-grown advocacy for generations to come!\nHELP US RAISE A CROWD: \nCome to one of our weekly phone banking events at the MVCC office (located at 305 E Hwy 20\, Twisp) every Thursday in May from 6-7pm to encourage members to turn out for our Rise and Shine event!\nSnacks and drinks are included to make this a festive task.\nTo attend these phone banking events or help from the comfort of your own home Sign up here.
URL:https://mvcitizens.org/event/mvcc-annual-celebration/
CATEGORIES:Annual Event,Climate Change,Event,Food,Music
ATTACH;FMTTYPE=image/jpeg:https://mvcitizens.org/wp-content/uploads/2018/12/IMG_8811.jpeg
END:VEVENT
BEGIN:VEVENT
DTSTART;TZID=UTC:20190420T170000
DTEND;TZID=UTC:20190420T210000
DTSTAMP:20260424T155628
CREATED:20190321T174534Z
LAST-MODIFIED:20190321T174535Z
UID:1063-1555779600-1555794000@mvcitizens.org
SUMMARY:Promenade for Protection!
DESCRIPTION:You’re invited to celebrate the Methow Headwaters Campaign on April 20th! \nCome celebrate the passage of the Methow Headwaters Protection Act with us on Saturday\, April 20th at the Winthrop Barn! More details to come.
URL:https://mvcitizens.org/event/promenade-for-protection/
LOCATION:Winthrop Barn\, 51 N Hwy 20\, Winthrop\, 98862\, United States
CATEGORIES:Event,Food,Methow Headwaters,Music
ATTACH;FMTTYPE=image/jpeg:https://mvcitizens.org/wp-content/uploads/2019/03/SAVE-THE-DATE_042019_MH-celebration.jpg
ORGANIZER;CN="Methow Headwaters Campaign":MAILTO:methowheadwaters@gmail.com
END:VEVENT
BEGIN:VEVENT
DTSTART;TZID=UTC:20190103T160000
DTEND;TZID=UTC:20190103T180000
DTSTAMP:20260424T155628
CREATED:20181220T230730Z
LAST-MODIFIED:20181220T230730Z
UID:933-1546531200-1546538400@mvcitizens.org
SUMMARY:MVCC Open House
DESCRIPTION:Start the year off right by advocating for land\, air and water with the Methow Valley Citizens Council! \nMVCC was founded in 1976\, when a group of citizen activists came together to protect the Methow’s natural environment and rural character. This past fall MVCC moved into a groovy 1970’s A-Frame building in between Windermere Reality and the Twisp Eagles. \nTo honor our new location and MVCC’s legacy we are holding a 1970’s themed office warming party on Thursday\, January 3rd from 4-6pm. Stop on by and join in on the fun! We will provide happy hour snacks and drinks. Be sure to dress up in your best ’70’s garb for the chance to win a prize!
URL:https://mvcitizens.org/event/mvcc-open-house/
LOCATION:MVCC Office\, 305 E Methow Valley Highway\, Twisp\, WA\, 98856\, United States
CATEGORIES:Event,Food,Music
ATTACH;FMTTYPE=image/jpeg:https://mvcitizens.org/wp-content/uploads/2018/12/kids-holding-sign.jpg
ORGANIZER;CN="Methow Valley Citizens Council":MAILTO:mvcc@mvcitizens.org
END:VEVENT
BEGIN:VEVENT
DTSTART;TZID=UTC:20180702T080000
DTEND;TZID=UTC:20180702T170000
DTSTAMP:20260424T155628
CREATED:20180702T165200Z
LAST-MODIFIED:20180702T165200Z
UID:699-1530518400-1530550800@mvcitizens.org
SUMMARY:Fourth of July Parade
DESCRIPTION:Save the date for the Town of Twisp’s Annual Fourth of July Parade! MVCC will be marching in the parade and we invite all our supporters to join us on Wednesday\, July 4th at Twispworks! \nWe encourage you to wear your MVCC t-shirts to this event. Shirts and tank tops for men\, women and children are available for purchase at the MVCC office in Twisp.  \nWhen: 10:30am on Wednesday\, July 4th \nWhere: Twispworks Campus\nRSVP Contact: Raechel Youngberg\, raechel@mvcitizens.org \nPlease RSVP by July 1st \nAre you artistically inclined and passionate about the Methow Valley? We are looking for 1-2 volunteers to lead an art build prior to the Fourth of July parade. \nContact: Raechel at Raechel@mvcitizens.org or call the MVCC office at 509-997-0888\, if you would like to learn more.
URL:https://mvcitizens.org/event/fourth-of-july-parade/
LOCATION:Twispworks\, 502 S. Glover Street\, Twisp\, WA\, 98856\, United States
CATEGORIES:Food,Music
ATTACH;FMTTYPE=image/jpeg:https://mvcitizens.org/wp-content/uploads/2015/06/High-Quality-Young-Reflections-Photo.jpg
ORGANIZER;CN="":MAILTO:raechel.youngberg@gmail.com
END:VEVENT
BEGIN:VEVENT
DTSTART;TZID=UTC:20180526T100000
DTEND;TZID=UTC:20180526T120000
DTSTAMP:20260424T155628
CREATED:20180423T213336Z
LAST-MODIFIED:20180502T163419Z
UID:611-1527328800-1527336000@mvcitizens.org
SUMMARY:Rise and Shine for the Methow - MVCC's Annual Event
DESCRIPTION:Join us to celebrate the natural environment and rural character of the Methow Valley! This year\, we’re rising up to meet the challenges and celebrating the successes of 40+ years of advocacy work with a delicious homegrown brunch at the Winthrop Park. We’ll be joined by nationally recognized climate activist and speaker\, KC Golden\, as we talk about building resiliency in our community in the face of climate change and how we can all work together to create a strong future for the Methow Valley. We’re looking forward to celebrating with you as we share where we’ll be focusing our energy and efforts in the coming year\, and hearing from you about the issues you think deserve attention. \nTimeline:\n10am – A homegrown brunch served featuring local ingredients from Methow Valley Farmers\n10:45am – Climate activist KC Golden will talk about how we can tackle the climate crisis with local action and bolder citizenship. Come with questions\, ideas\, and a hunger for action!\n11:15am – Join us for a fun and engaging activity that is both adult and kid friendly! \nCome on out for a fun community celebration with food\, drink and live music – we look forward to seeing you there! Contact: mvcc@mvcitizens.org for more information or questions – RSVP’s appreciated\, but not required.
URL:https://mvcitizens.org/event/rise-and-shine-for-the-methow-mvccs-annual-event/
LOCATION:Winthrop Park\, 51 N Hwy 20\, Winthrop\, WA\, 98856\, United States
CATEGORIES:Annual Event,Food,Music
ATTACH;FMTTYPE=application/pdf:https://mvcitizens.org/wp-content/uploads/2018/04/Rise-Up-for-the-Methow-Poster-MVCC-Final5726.pdf
ORGANIZER;CN="Methow Valley Citizens Council":MAILTO:mvcc@mvcitizens.org
END:VEVENT
END:VCALENDAR