BEGIN:VCALENDAR
VERSION:2.0
PRODID:-//Methow Valley Citizens Council - ECPv6.13.2.1//NONSGML v1.0//EN
CALSCALE:GREGORIAN
METHOD:PUBLISH
X-ORIGINAL-URL:https://mvcitizens.org
X-WR-CALDESC:Events for Methow Valley Citizens Council
REFRESH-INTERVAL;VALUE=DURATION:PT1H
X-Robots-Tag:noindex
X-PUBLISHED-TTL:PT1H
BEGIN:VTIMEZONE
TZID:UTC
BEGIN:STANDARD
TZOFFSETFROM:+0000
TZOFFSETTO:+0000
TZNAME:UTC
DTSTART:20180101T000000
END:STANDARD
END:VTIMEZONE
BEGIN:VEVENT
DTSTART;VALUE=DATE:20190919
DTEND;VALUE=DATE:20190920
DTSTAMP:20260424T155625
CREATED:20190828T181537Z
LAST-MODIFIED:20190828T181537Z
UID:1212-1568851200-1568937599@mvcitizens.org
SUMMARY:Comment Deadline on Okanogan County Comprehensive Plan
DESCRIPTION:Please view our Comp Plan Update for information on what content to comment on. Below you will find the announcement by Okanogan County on the Extended Comment Period Deadline. \nNotice of Okanogan County Comprehensive Plan DEIS Comment Period Extension \nNotice is hereby given that the Okanogan County Office of Planning and Community Development has issued a Draft Environmental Impact Statement (DEIS) which discusses environmental impacts of the proposed revisions to the 2014 Okanogan County Comprehensive Plan.  The Comprehensive Plan proposal has been prepared in accordance with RCW 36.70 Planning Enabling Act\, RCW 36.70A Growth Management Act\, and other applicable case law and requirements.  The Comprehensive Plan contains policies that inform other land use regulation in all unincorporated areas of the county.  The proposed revisions to the comprehensive plan consider the medium range of population increase prepared by the OFM which projects that the population will increase by 2891 people (revised) by the year 2040.  The revised comprehensive plan includes three alternative policy approaches for dealing with the projected population increase.  The draft environmental impact statement considers a 4th alternative suggested during the scoping period. \n  \nThe SEPA Responsible Official has reviewed submitted comments and has determined an extended comment period is warranted.  The notice for the DEIS was published on July 17th and 18th \, 2019.  The deadline for submitting comments regarding the DEIS is extended to 5:00 pm\, September 19\, 2019. Date of publishing is August 28th and 29th\, 2019. \n  \nAgencies\, affected tribes\, and members of the public are invited to comment on the DEIS and the revised comprehensive plan.  You may submit your comments in writing or electronically to: cingle@co.okanogan.wa.us or mailed or delivered to 123 5th Ave N. Suite 130\, Okanogan WA 98840. \nInformation regarding this proposal can be obtained from: Okanogan County Office of Planning and Development\, Angie Hubbard\, Interim Director of Planning\, 123 5th Avenue North\, Suite 130 Okanogan\, WA 98840 509-422-7090 or  ahubbard@co.okanogan.wa.us .  A copy of the proposal and other documents may be viewed at www.okanogancounty.org/planning
URL:https://mvcitizens.org/event/comment-deadline-on-okanogan-county-comprehensive-plan/
CATEGORIES:Climate Change,public meeting
END:VEVENT
BEGIN:VEVENT
DTSTART;TZID=UTC:20181113T180000
DTEND;TZID=UTC:20181113T193000
DTSTAMP:20260424T155625
CREATED:20181022T190459Z
LAST-MODIFIED:20181022T194532Z
UID:828-1542132000-1542137400@mvcitizens.org
SUMMARY:Methow Headwaters Public Meeting on 11/13
DESCRIPTION:The Bureau of Land Management will host a public meeting in the Methow Valley on Tuesday\, November 13 @ 6PM at the Barn to gather public feedback on the proposal to approve a mineral withdrawal for the Methow Headwaters region. A mineral withdrawal would make the 340\,000 acres of U.S. Forest Service land in the Upper Methow Valley off-limits to large-scale mining for the next 20 years. The Methow Headwaters Campaign has worked hard to secure this protection and needs your voice of support at this meeting!
URL:https://mvcitizens.org/event/methow-headwaters-public-meeting-on-11-13/
LOCATION:Winthrop Barn\, 51 N Hwy 20\, Winthrop\, 98862\, United States
CATEGORIES:Event,Methow Headwaters,public meeting
ATTACH;FMTTYPE=image/jpeg:https://mvcitizens.org/wp-content/uploads/2018/10/Protect-the-Methow.jpg
ORGANIZER;CN="Methow Headwaters Campaign":MAILTO:methowheadwaters@gmail.com
END:VEVENT
BEGIN:VEVENT
DTSTART;TZID=UTC:20180521T180000
DTEND;TZID=UTC:20180521T193000
DTSTAMP:20260424T155625
CREATED:20180511T182515Z
LAST-MODIFIED:20180511T182649Z
UID:670-1526925600-1526931000@mvcitizens.org
SUMMARY:DNR Public Meeting on forest health\, wildfire in Winthrop
DESCRIPTION:The following information can also be found on the Department of Natural Resources website. \n“Join Commissioner of Public Lands Hilary Franz\, Senator Brad Hawkins\, and WA Dept. of Natural Resources staff in Winthrop for May 21 community meeting \n\n\n\n\n\n\n\n\n\n\n\n\n\n\n\nThe Washington State Department of Natural Resources (DNR) invites the public to join them at an upcoming community meeting to learn more about their 20-Year Forest Health Strategic Plan\, wildfire prevention\, and forest health treatments.\n\n\nWhen:          Monday\, May 21\, from 6 to 7:30 p.m.\nWhere:          The Winthrop Barn\, 51 N. Highway 20\, Winthrop\, WA 98862\nWho:            Commissioner of Public Lands Hilary Franz\, Senator Brad Hawkins (R-East Wenatchee)\, DNR staff\n\n\nThe community meeting will feature presentations on the 20-Year Forest Health Strategic Plan and preparations for the upcoming fire season. There will also be an opportunity for attendees to ask questions\, as well as get an update on the Virginia Ridge timber sale.\n\n\n“Our forestland in the Methow Valley holds important significance to the community for its recreation\, environmental\, and economic value\,” said Commissioner of Public Lands Hilary Franz. “By taking steps to restore forest health\, we increase natural wildfire resistance\, protect the community\, and ensure working forests provide benefits to the public now and in the future.\n\n\n“This work must be done in partnership with the community. Community input and engagement is critical to the success of our forest health initiative. I’m looking forward to hearing from residents directly and discussing my vision for a collaborative approach to addressing our unhealthy forestland.”\n\n\nThe 20-Year Forest Health Plan – developed in collaboration with 33 agencies and organizations\, including industry and environmental groups – provides a framework to restore 1.25 million acres of eastern Washington forestland to health. Forest improvement treatments strengthen forest resistance to wildfire\, insect infestation\, and disease.\n\n\nMore information is available at dnr.wa.gov/ForestHealthPlan.”
URL:https://mvcitizens.org/event/dnr-public-meeting-on-forest-health-wildfire-in-winthrop/
LOCATION:Winthrop Barn\, 51 N Hwy 20\, Winthrop\, 98862\, United States
CATEGORIES:DNR,public meeting,Virginia Ridge
ATTACH;FMTTYPE=image/jpeg:https://mvcitizens.org/wp-content/uploads/2018/05/43777662.jpg
ORGANIZER;CN="Methow Valley Citizens Council":MAILTO:mvcc@mvcitizens.org
END:VEVENT
END:VCALENDAR