BEGIN:VCALENDAR
VERSION:2.0
PRODID:-//Methow Valley Citizens Council - ECPv6.13.2.1//NONSGML v1.0//EN
CALSCALE:GREGORIAN
METHOD:PUBLISH
X-WR-CALNAME:Methow Valley Citizens Council
X-ORIGINAL-URL:https://mvcitizens.org
X-WR-CALDESC:Events for Methow Valley Citizens Council
REFRESH-INTERVAL;VALUE=DURATION:PT1H
X-Robots-Tag:noindex
X-PUBLISHED-TTL:PT1H
BEGIN:VTIMEZONE
TZID:UTC
BEGIN:STANDARD
TZOFFSETFROM:+0000
TZOFFSETTO:+0000
TZNAME:UTC
DTSTART:20260101T000000
END:STANDARD
END:VTIMEZONE
BEGIN:VEVENT
DTSTART;TZID=UTC:20260601T190000
DTEND;TZID=UTC:20260601T200000
DTSTAMP:20260423T223616
CREATED:20260408T190213Z
LAST-MODIFIED:20260409T163530Z
UID:4435-1780340400-1780344000@mvcitizens.org
SUMMARY:Youth and Climate Advocacy: Our Children's Trust with Liberty Bell Climate Club
DESCRIPTION:Listen to Andrea Rodgers\, Executive Director of Our Children’s Trust\, and a youth plaintiff about how Our Children’s Trust takes legal action on the right to a stable climate.  The evening will include a local panel of Liberty Bell Climate Club youth and the presentation of MVCC’s Red-Tailed Hawk Award.  \n 
URL:https://mvcitizens.org/event/youth-and-climate-advocacy-our-childrens-trust-with-liberty-bell-climate-club/
END:VEVENT
END:VCALENDAR