BEGIN:VCALENDAR
VERSION:2.0
PRODID:-//Methow Valley Citizens Council - ECPv6.13.2.1//NONSGML v1.0//EN
CALSCALE:GREGORIAN
METHOD:PUBLISH
X-WR-CALNAME:Methow Valley Citizens Council
X-ORIGINAL-URL:https://mvcitizens.org
X-WR-CALDESC:Events for Methow Valley Citizens Council
REFRESH-INTERVAL;VALUE=DURATION:PT1H
X-Robots-Tag:noindex
X-PUBLISHED-TTL:PT1H
BEGIN:VTIMEZONE
TZID:UTC
BEGIN:STANDARD
TZOFFSETFROM:+0000
TZOFFSETTO:+0000
TZNAME:UTC
DTSTART:20240101T000000
END:STANDARD
END:VTIMEZONE
BEGIN:VEVENT
DTSTART;TZID=UTC:20241025T180000
DTEND;TZID=UTC:20241025T193000
DTSTAMP:20260425T110645
CREATED:20241017T181214Z
LAST-MODIFIED:20241024T195513Z
UID:3829-1729879200-1729884600@mvcitizens.org
SUMMARY:"Soup. Community. Zoning."
DESCRIPTION:
URL:https://mvcitizens.org/event/soup-community-zoning/
LOCATION:Methow Community Club\, 6 Arkansas Ave\, Methow\, WA\, 98834\, United States
ORGANIZER;CN="Methow Valley Citizens Council":MAILTO:mvcc@mvcitizens.org
END:VEVENT
BEGIN:VEVENT
DTSTART;TZID=UTC:20241101T050000
DTEND;TZID=UTC:20241101T200000
DTSTAMP:20260425T110645
CREATED:20241017T182624Z
LAST-MODIFIED:20241028T174202Z
UID:3833-1730437200-1730491200@mvcitizens.org
SUMMARY:Rally for the Valley!
DESCRIPTION:
URL:https://mvcitizens.org/event/rally-for-the-valley/
LOCATION:Twisp River Tap House\, 201 Methow Valley Hwy N\, Twisp\, 98856
ORGANIZER;CN="Methow Valley Citizens Council":MAILTO:mvcc@mvcitizens.org
END:VEVENT
BEGIN:VEVENT
DTSTART;TZID=UTC:20241227T183000
DTEND;TZID=UTC:20241227T203000
DTSTAMP:20260425T110645
CREATED:20241211T221025Z
LAST-MODIFIED:20241211T221719Z
UID:3867-1735324200-1735331400@mvcitizens.org
SUMMARY:Human-Powered Hundred Peaks
DESCRIPTION:Join us at the Winthrop Red Barn on December 27th at 7pm as Langdon Ernest-Beck and Jeff Hashimoto share their incredible journey to climb the 100 highest peaks in Washington—all human-powered and completed in one season! Hosted by Methow Valley Citizens Council\, the evening will also feature a small panel of local experts speaking about sustainable recreation efforts in the Methow Valley and the presentation of the first annual Red-Tailed Hawk Award to honor a local climate leader making a difference for our community. Doors open at 6:30pm and program begins at 7pm. This is a free event but you can let us know your coming by RSVPing here. \n 
URL:https://mvcitizens.org/event/human-powered-hundred-peaks-2/
LOCATION:Winthrop Barn\, 51 N Hwy 20\, Winthrop\, 98862\, United States
ORGANIZER;CN="Methow Valley Citizens Council":MAILTO:mvcc@mvcitizens.org
END:VEVENT
BEGIN:VEVENT
DTSTART;TZID=UTC:20250129T170000
DTEND;TZID=UTC:20250129T190000
DTSTAMP:20260425T110645
CREATED:20250127T204804Z
LAST-MODIFIED:20250127T222221Z
UID:3879-1738170000-1738177200@mvcitizens.org
SUMMARY:Turn Down the Heat: Climate Panel Discussion!
DESCRIPTION:
URL:https://mvcitizens.org/event/turn-down-the-heat-climate-panel-discussion/
LOCATION:Confluence Gallery\, Twisp\, WA
ORGANIZER;CN="Methow Valley Citizens Council":MAILTO:mvcc@mvcitizens.org
END:VEVENT
BEGIN:VEVENT
DTSTART;VALUE=DATE:20250413
DTEND;VALUE=DATE:20250414
DTSTAMP:20260425T110645
CREATED:20250401T192916Z
LAST-MODIFIED:20250401T193042Z
UID:4130-1744502400-1744588799@mvcitizens.org
SUMMARY:Free Curbside Chipping in Twisp
DESCRIPTION:The Town of Twisp will be doing another round of their curbside chipping service! Please have piles out by Sunday night\, April 13th if you live within city limits. Please limit piles to 5x10x5\, and place them perpendicular to the street. Multiple piles are allowed! No alley pickups. Piles will be chipped on April 14 and 15. \nAllowed: \nBranches and woody debris only no shorter than 2’ long and no larger than 6” in diameter! \nNot allowed: \n\nAll other green yard waste and garbage\nNo weeds\, sod\, roots\, pine needles\, leaves\, waste paper\, garbage\, plastic\, metal\, lumber or treated wood\nPiles not meeting guidelines will not be chipped\nChips will be available for free after 2pm on Wednesday\, April 16.\n\n 
URL:https://mvcitizens.org/event/free-curbside-chipping-in-twisp/
LOCATION:Twisp\, Twisp\, WA\, 98856\, United States
END:VEVENT
BEGIN:VEVENT
DTSTART;TZID=UTC:20250416T100000
DTEND;TZID=UTC:20250416T150000
DTSTAMP:20260425T110645
CREATED:20250401T185538Z
LAST-MODIFIED:20250401T185556Z
UID:4122-1744797600-1744815600@mvcitizens.org
SUMMARY:Free Spring Chipping -Twisp Transfer Station
DESCRIPTION:Free Green Yard Waste Disposal at the Twisp Transfer Station 10am-3pm (for all Methow Valley Residents)\nThis Free Green Yard Waste Disposal event provides Methow Valley residents with an alternative to backyard burning of their yard debris this spring. Residents can come to the Twisp Transfer Station to dispose of their yard waste for this special collection 10am-3pm on 4/16\, 4/18\, 4/23 & 4/25. \nThis event is put on in partnership with Okanogan Conservation District\, Resilient Methow\, Fire Adapted Methow Valley\, Town of Twisp and Okanogan County Solid Waste Management. With funding from the Department of Ecology \nAllowed: \n\n\nAll natural vegetation \n\n\nBranches and woody debris \n\n\nBrush and shrubs \n\n\nWeeds \n\n\nPine needles and cones \n\n\nLeaves and grass clippings \n\n\nFlowers\, plants\, fruit and vegetable plant trimmings \n\n\nNot allowed: \n\n\nGarbage of any kind \n\n\nLumber or treated wood \n\n\nHomegrown fruit \n\n\nDirt \n\n\nConstruction debris/materials \n\n\nPlastics \n\n\nPaper \n\n\nNote: Please separate branches/woody material from yard waste. \nBagged vegetation will be emptied and checked by staff to ensure it contains all-natural yard waste \nLimit two yards of material.
URL:https://mvcitizens.org/event/free-spring-chipping-twisp-transfer-station/
LOCATION:Twisp Transfer Station\, 12 Twisp Airport Rd\, Twisp\, 98856\, United States
END:VEVENT
BEGIN:VEVENT
DTSTART;TZID=UTC:20250418T100000
DTEND;TZID=UTC:20250418T150000
DTSTAMP:20260425T110645
CREATED:20250401T190034Z
LAST-MODIFIED:20250401T190034Z
UID:4124-1744970400-1744988400@mvcitizens.org
SUMMARY:Free Spring Chipping -Twisp Transfer Station
DESCRIPTION:Free Green Yard Waste Disposal at the Twisp Transfer Station 10am-3pm (for all Methow Valley Residents)\nThis Free Green Yard Waste Disposal event provides Methow Valley residents with an alternative to backyard burning of their yard debris this spring. Residents can come to the Twisp Transfer Station to dispose of their yard waste for this special collection 10am-3pm on 4/16\, 4/18\, 4/23 & 4/25. \nThis event is put on in partnership with Okanogan Conservation District\, Resilient Methow\, Fire Adapted Methow Valley\, Town of Twisp and Okanogan County Solid Waste Management. With funding from the Department of Ecology \nAllowed: \n\n\nAll natural vegetation \n\n\nBranches and woody debris \n\n\nBrush and shrubs \n\n\nWeeds \n\n\nPine needles and cones \n\n\nLeaves and grass clippings \n\n\nFlowers\, plants\, fruit and vegetable plant trimmings \n\n\nNot allowed: \n\n\nGarbage of any kind \n\n\nLumber or treated wood \n\n\nHomegrown fruit \n\n\nDirt \n\n\nConstruction debris/materials \n\n\nPlastics \n\n\nPaper \n\n\nNote: Please separate branches/woody material from yard waste. \nBagged vegetation will be emptied and checked by staff to ensure it contains all-natural yard waste \nLimit two yards of material.
URL:https://mvcitizens.org/event/free-spring-chipping-twisp-transfer-station-2/
LOCATION:Twisp Transfer Station\, 12 Twisp Airport Rd\, Twisp\, 98856\, United States
END:VEVENT
BEGIN:VEVENT
DTSTART;TZID=UTC:20250423T100000
DTEND;TZID=UTC:20250423T150000
DTSTAMP:20260425T110645
CREATED:20250401T190157Z
LAST-MODIFIED:20250401T190157Z
UID:4126-1745402400-1745420400@mvcitizens.org
SUMMARY:Free Spring Chipping -Twisp Transfer Station
DESCRIPTION:Free Green Yard Waste Disposal at the Twisp Transfer Station 10am-3pm (for all Methow Valley Residents)\nThis Free Green Yard Waste Disposal event provides Methow Valley residents with an alternative to backyard burning of their yard debris this spring. Residents can come to the Twisp Transfer Station to dispose of their yard waste for this special collection 10am-3pm on 4/16\, 4/18\, 4/23 & 4/25. \nThis event is put on in partnership with Okanogan Conservation District\, Resilient Methow\, Fire Adapted Methow Valley\, Town of Twisp and Okanogan County Solid Waste Management. With funding from the Department of Ecology \nAllowed: \n\n\nAll natural vegetation \n\n\nBranches and woody debris \n\n\nBrush and shrubs \n\n\nWeeds \n\n\nPine needles and cones \n\n\nLeaves and grass clippings \n\n\nFlowers\, plants\, fruit and vegetable plant trimmings \n\n\nNot allowed: \n\n\nGarbage of any kind \n\n\nLumber or treated wood \n\n\nHomegrown fruit \n\n\nDirt \n\n\nConstruction debris/materials \n\n\nPlastics \n\n\nPaper \n\n\nNote: Please separate branches/woody material from yard waste. \nBagged vegetation will be emptied and checked by staff to ensure it contains all-natural yard waste \nLimit two yards of material.
URL:https://mvcitizens.org/event/free-spring-chipping-twisp-transfer-station-3/
LOCATION:Twisp Transfer Station\, 12 Twisp Airport Rd\, Twisp\, 98856\, United States
END:VEVENT
BEGIN:VEVENT
DTSTART;TZID=UTC:20250425T100000
DTEND;TZID=UTC:20250425T150000
DTSTAMP:20260425T110645
CREATED:20250401T190316Z
LAST-MODIFIED:20250401T190325Z
UID:4128-1745575200-1745593200@mvcitizens.org
SUMMARY:Free Spring Chipping -Twisp Transfer Station
DESCRIPTION:Free Green Yard Waste Disposal at the Twisp Transfer Station 10am-3pm (for all Methow Valley Residents)\nThis Free Green Yard Waste Disposal event provides Methow Valley residents with an alternative to backyard burning of their yard debris this spring. Residents can come to the Twisp Transfer Station to dispose of their yard waste for this special collection 10am-3pm on 4/16\, 4/18\, 4/23 & 4/25. \nThis event is put on in partnership with Okanogan Conservation District\, Resilient Methow\, Fire Adapted Methow Valley\, Town of Twisp and Okanogan County Solid Waste Management. With funding from the Department of Ecology \nAllowed: \n\n\nAll natural vegetation \n\n\nBranches and woody debris \n\n\nBrush and shrubs \n\n\nWeeds \n\n\nPine needles and cones \n\n\nLeaves and grass clippings \n\n\nFlowers\, plants\, fruit and vegetable plant trimmings \n\n\nNot allowed: \n\n\nGarbage of any kind \n\n\nLumber or treated wood \n\n\nHomegrown fruit \n\n\nDirt \n\n\nConstruction debris/materials \n\n\nPlastics \n\n\nPaper \n\n\nNote: Please separate branches/woody material from yard waste. \nBagged vegetation will be emptied and checked by staff to ensure it contains all-natural yard waste \nLimit two yards of material.
URL:https://mvcitizens.org/event/free-spring-chipping-twisp-transfer-station-4/
LOCATION:Twisp Transfer Station\, 12 Twisp Airport Rd\, Twisp\, 98856\, United States
END:VEVENT
BEGIN:VEVENT
DTSTART;TZID=UTC:20250521T170000
DTEND;TZID=UTC:20250521T190000
DTSTAMP:20260425T110645
CREATED:20250514T232935Z
LAST-MODIFIED:20250514T232935Z
UID:4202-1747846800-1747854000@mvcitizens.org
SUMMARY:This Ain't the Wild West Anymore: Permitting and Compliance in the Methow
DESCRIPTION:“Have you ever wondered what the rules are around here?” “Do you need a permit to build a road?”; “Can trees be cut close to a river to improve a view?”; “If I see something that concerns me\, what can I do?”  \nWindermere Methow Valley\, The Kuehler Law Firm\, and Palm Construction invite you to a workshop about how permitting for development works in the Methow Valley.   \nJoin us on May 21st at the Winthrop Barn for a presentation and panel discussion\, moderated by the Methow Valley Citizen’s Council. Doors open at 5\, presentations from 5:30 – 7 with time for questions.  \nWe will have guests from Okanogan County\, Department of Fish and Wildlife\, and Department of Ecology\, who will inform the community about how permitting works and share information about policies and actions that protect sensitive lands.  \nThis workshop is for landowners\, residents\, realtors\, excavators\, builders\, landscapers\, and neighbors of the Methow—anyone who cares deeply about this place and wants to protect it into the future! It’s all about starting a conversation – we hope to see you there!   \nSubmit questions to the panelists beforehand.  
URL:https://mvcitizens.org/event/this-aint-the-wild-west-anymore-permitting-and-compliance-in-the-methow/
LOCATION:Winthrop Library\, Winthrop\, WA\, United States
ATTACH;FMTTYPE=image/jpeg:https://mvcitizens.org/wp-content/uploads/2025/05/Permitting-and-Compliance-Workshop-Poster.jpg
ORGANIZER;CN="Methow Valley Citizens Council":MAILTO:mvcc@mvcitizens.org
END:VEVENT
BEGIN:VEVENT
DTSTART;TZID=UTC:20250618T170000
DTEND;TZID=UTC:20250618T190000
DTSTAMP:20260425T110645
CREATED:20250611T200026Z
LAST-MODIFIED:20250611T200026Z
UID:4224-1750266000-1750273200@mvcitizens.org
SUMMARY:Annual Member's Meeting
DESCRIPTION:Join MVCC staff\, board\, members\, and guests for our annual Sideyard Shindig Members Meeting on June 18th from 5-7pm outside our office in Twisp (305 E. Methow Valley Highway). This year several high school students from the Liberty Bell Climate Club will share some of their inspirations and takeaways from the club. \nMembers* are welcome at this event and encouraged to bring others from their household to the meeting. We’ll provide hot dogs\, brats and veggie dogs\, OSB beer and other beverages. This will be a zero-waste event so please try to bring a plate\, cup and fork with you. \nPlease let us know if you can make it by RSVPing! \n*If you have friends who are interested in becoming members bring them along! They can join today or sign up when they arrive at the event.
URL:https://mvcitizens.org/event/annual-members-meeting-2/
LOCATION:MVCC Office\, 305 E Methow Valley Highway\, Twisp\, WA\, 98856\, United States
ORGANIZER;CN="Methow Valley Citizens Council":MAILTO:mvcc@mvcitizens.org
END:VEVENT
BEGIN:VEVENT
DTSTART;TZID=UTC:20260403T163000
DTEND;TZID=UTC:20260403T183000
DTSTAMP:20260425T110645
CREATED:20260330T170743Z
LAST-MODIFIED:20260330T170743Z
UID:4409-1775233800-1775241000@mvcitizens.org
SUMMARY:Give Back Yoga benefitting Methow Dark Sky Coalition
DESCRIPTION:Give-back Yoga 4:30-6:30p @ Motive Yoga Co \nEnjoy a mellow mindful yoga practice with Gwen Vernon. 100% of donations go to the Methow Dark Sky Coalition!
URL:https://mvcitizens.org/event/give-back-yoga-benefitting-methow-dark-sky-coalition/
END:VEVENT
BEGIN:VEVENT
DTSTART;TZID=UTC:20260406T190000
DTEND;TZID=UTC:20260406T200000
DTSTAMP:20260425T110645
CREATED:20260317T024057Z
LAST-MODIFIED:20260330T170534Z
UID:4396-1775502000-1775505600@mvcitizens.org
SUMMARY:Mystery Movie Monday with MVCC
DESCRIPTION:🎬 Mystery Movie Monday \nJoin us for a special night at the movies with The Barnyard Cinema! \nOn Monday\, April 6 at 7 PM\, Methow Valley Citizens Council is teaming up with the Barnyard Cinema for a Mystery Movie about how millennials are mobilizing to change the world. \n✨ Expect an inspiring story!
URL:https://mvcitizens.org/event/mystery-movie-monday-with-mvcc/
LOCATION:Barnyard Cinema
END:VEVENT
BEGIN:VEVENT
DTSTART;TZID=UTC:20260411T080000
DTEND;TZID=UTC:20260419T170000
DTSTAMP:20260425T110645
CREATED:20260317T024332Z
LAST-MODIFIED:20260330T170503Z
UID:4399-1775894400-1776618000@mvcitizens.org
SUMMARY:Methow Dark Sky Week
DESCRIPTION:From April 11–19\, join the community for a week of events celebrating the beauty of our pristine\, rural night skies—from star parties and night walks to art\, talks\, and more. Find the complete calendar of events at: methowdarkskyweek.org \n 
URL:https://mvcitizens.org/event/methow-dark-sky-week/
END:VEVENT
BEGIN:VEVENT
DTSTART;TZID=UTC:20260413T080000
DTEND;TZID=UTC:20260414T170000
DTSTAMP:20260425T110645
CREATED:20260330T170415Z
LAST-MODIFIED:20260330T170415Z
UID:4405-1776067200-1776186000@mvcitizens.org
SUMMARY:Town of Twisp Chipping
DESCRIPTION:Sign up for chipping events hosted by Okanogan Conservation District here: Spring 2026 Methow Valley Chipping EventsSign-Up Now!
URL:https://mvcitizens.org/event/town-of-twisp-chipping/
END:VEVENT
BEGIN:VEVENT
DTSTART;TZID=UTC:20260429T170000
DTEND;TZID=UTC:20260429T183000
DTSTAMP:20260425T110645
CREATED:20260408T185753Z
LAST-MODIFIED:20260408T185753Z
UID:4430-1777482000-1777487400@mvcitizens.org
SUMMARY:Roadless Rule Public Comment Primer and OSB Beer Release
DESCRIPTION:
URL:https://mvcitizens.org/event/roadless-rule-public-comment-primer-and-osb-beer-release/
LOCATION:Old Schoolhouse Brewery Taproom\, Twisp\, WA\, 98862\, United States
END:VEVENT
BEGIN:VEVENT
DTSTART;TZID=UTC:20260601T190000
DTEND;TZID=UTC:20260601T200000
DTSTAMP:20260425T110645
CREATED:20260408T190213Z
LAST-MODIFIED:20260409T163530Z
UID:4435-1780340400-1780344000@mvcitizens.org
SUMMARY:Youth and Climate Advocacy: Our Children's Trust with Liberty Bell Climate Club
DESCRIPTION:Listen to Andrea Rodgers\, Executive Director of Our Children’s Trust\, and a youth plaintiff about how Our Children’s Trust takes legal action on the right to a stable climate.  The evening will include a local panel of Liberty Bell Climate Club youth and the presentation of MVCC’s Red-Tailed Hawk Award.  \n 
URL:https://mvcitizens.org/event/youth-and-climate-advocacy-our-childrens-trust-with-liberty-bell-climate-club/
END:VEVENT
END:VCALENDAR