BEGIN:VCALENDAR
VERSION:2.0
PRODID:-//Methow Valley Citizens Council - ECPv6.13.2.1//NONSGML v1.0//EN
CALSCALE:GREGORIAN
METHOD:PUBLISH
X-WR-CALNAME:Methow Valley Citizens Council
X-ORIGINAL-URL:https://mvcitizens.org
X-WR-CALDESC:Events for Methow Valley Citizens Council
REFRESH-INTERVAL;VALUE=DURATION:PT1H
X-Robots-Tag:noindex
X-PUBLISHED-TTL:PT1H
BEGIN:VTIMEZONE
TZID:UTC
BEGIN:STANDARD
TZOFFSETFROM:+0000
TZOFFSETTO:+0000
TZNAME:UTC
DTSTART:20230101T000000
END:STANDARD
END:VTIMEZONE
BEGIN:VEVENT
DTSTART;TZID=UTC:20230525T170000
DTEND;TZID=UTC:20230525T183000
DTSTAMP:20260425T154631
CREATED:20230516T163748Z
LAST-MODIFIED:20230516T163748Z
UID:3342-1685034000-1685039400@mvcitizens.org
SUMMARY:Home Electrification Spring Forum
DESCRIPTION:Hosted by Resilient Methow\, a program of MVCC. \nLearn how you can take advantage of incentives and rebates to electrify your home and take climate action! Hear from Rewiring America\, local utilities\, Washington State Energy Office\, and a local contractor. Join us in person or online. \nSave your spot here!
URL:https://mvcitizens.org/event/home-electrification-spring-forum/
LOCATION:Winthrop Library\, Winthrop\, WA\, United States
END:VEVENT
END:VCALENDAR