BEGIN:VCALENDAR
VERSION:2.0
PRODID:-//Methow Valley Citizens Council - ECPv6.13.2.1//NONSGML v1.0//EN
CALSCALE:GREGORIAN
METHOD:PUBLISH
X-ORIGINAL-URL:https://mvcitizens.org
X-WR-CALDESC:Events for Methow Valley Citizens Council
REFRESH-INTERVAL;VALUE=DURATION:PT1H
X-Robots-Tag:noindex
X-PUBLISHED-TTL:PT1H
BEGIN:VTIMEZONE
TZID:UTC
BEGIN:STANDARD
TZOFFSETFROM:+0000
TZOFFSETTO:+0000
TZNAME:UTC
DTSTART:20240101T000000
END:STANDARD
END:VTIMEZONE
BEGIN:VEVENT
DTSTART;TZID=UTC:20241012T100000
DTEND;TZID=UTC:20241012T150000
DTSTAMP:20260424T163243
CREATED:20241017T180935Z
LAST-MODIFIED:20241017T182730Z
UID:3826-1728727200-1728745200@mvcitizens.org
SUMMARY:Fall Chipping Event!
DESCRIPTION:Have yard waste that you’d like disposed of or chipped for FREE? Bring your loads on down to the Twisp Transfer Station and we will be happy to help!
URL:https://mvcitizens.org/event/fall-chipping-event/
LOCATION:Twisp Transfer Station\, 12 Twisp Airport Rd\, Twisp\, 98856\, United States
ORGANIZER;CN="Methow Valley Citizens Council":MAILTO:mvcc@mvcitizens.org
END:VEVENT
BEGIN:VEVENT
DTSTART;TZID=UTC:20241017T183000
DTEND;TZID=UTC:20241017T200000
DTSTAMP:20260424T163243
CREATED:20241017T180443Z
LAST-MODIFIED:20241017T182716Z
UID:3816-1729189800-1729195200@mvcitizens.org
SUMMARY:Candidate Forum at Twisp Grange
DESCRIPTION:
URL:https://mvcitizens.org/event/candidate-forum-at-twisp-grange/
LOCATION:Twisp Grange\, 344 W 2nd Ave\, Twisp\, 98856\, United States
END:VEVENT
BEGIN:VEVENT
DTSTART;TZID=UTC:20241025T180000
DTEND;TZID=UTC:20241025T193000
DTSTAMP:20260424T163243
CREATED:20241017T181214Z
LAST-MODIFIED:20241024T195513Z
UID:3829-1729879200-1729884600@mvcitizens.org
SUMMARY:"Soup. Community. Zoning."
DESCRIPTION:
URL:https://mvcitizens.org/event/soup-community-zoning/
LOCATION:Methow Community Club\, 6 Arkansas Ave\, Methow\, WA\, 98834\, United States
ORGANIZER;CN="Methow Valley Citizens Council":MAILTO:mvcc@mvcitizens.org
END:VEVENT
END:VCALENDAR