BEGIN:VCALENDAR
VERSION:2.0
PRODID:-//Methow Valley Citizens Council - ECPv6.13.2.1//NONSGML v1.0//EN
CALSCALE:GREGORIAN
METHOD:PUBLISH
X-WR-CALNAME:Methow Valley Citizens Council
X-ORIGINAL-URL:https://mvcitizens.org
X-WR-CALDESC:Events for Methow Valley Citizens Council
REFRESH-INTERVAL;VALUE=DURATION:PT1H
X-Robots-Tag:noindex
X-PUBLISHED-TTL:PT1H
BEGIN:VTIMEZONE
TZID:UTC
BEGIN:STANDARD
TZOFFSETFROM:+0000
TZOFFSETTO:+0000
TZNAME:UTC
DTSTART:20240101T000000
END:STANDARD
END:VTIMEZONE
BEGIN:VEVENT
DTSTART;TZID=UTC:20241101T050000
DTEND;TZID=UTC:20241101T200000
DTSTAMP:20260424T150727
CREATED:20241017T182624Z
LAST-MODIFIED:20241028T174202Z
UID:3833-1730437200-1730491200@mvcitizens.org
SUMMARY:Rally for the Valley!
DESCRIPTION:
URL:https://mvcitizens.org/event/rally-for-the-valley/
LOCATION:Twisp River Tap House\, 201 Methow Valley Hwy N\, Twisp\, 98856
ORGANIZER;CN="Methow Valley Citizens Council":MAILTO:mvcc@mvcitizens.org
END:VEVENT
END:VCALENDAR